BEGIN:VCALENDAR
VERSION:2.0
PRODID:-//YEAHPhilly - ECPv6.15.17.1//NONSGML v1.0//EN
CALSCALE:GREGORIAN
METHOD:PUBLISH
X-ORIGINAL-URL:https://yeahphilly.org
X-WR-CALDESC:Events for YEAHPhilly
REFRESH-INTERVAL;VALUE=DURATION:PT1H
X-Robots-Tag:noindex
X-PUBLISHED-TTL:PT1H
BEGIN:VTIMEZONE
TZID:America/New_York
BEGIN:DAYLIGHT
TZOFFSETFROM:-0500
TZOFFSETTO:-0400
TZNAME:EDT
DTSTART:20220313T070000
END:DAYLIGHT
BEGIN:STANDARD
TZOFFSETFROM:-0400
TZOFFSETTO:-0500
TZNAME:EST
DTSTART:20221106T060000
END:STANDARD
BEGIN:DAYLIGHT
TZOFFSETFROM:-0500
TZOFFSETTO:-0400
TZNAME:EDT
DTSTART:20230312T070000
END:DAYLIGHT
BEGIN:STANDARD
TZOFFSETFROM:-0400
TZOFFSETTO:-0500
TZNAME:EST
DTSTART:20231105T060000
END:STANDARD
BEGIN:DAYLIGHT
TZOFFSETFROM:-0500
TZOFFSETTO:-0400
TZNAME:EDT
DTSTART:20240310T070000
END:DAYLIGHT
BEGIN:STANDARD
TZOFFSETFROM:-0400
TZOFFSETTO:-0500
TZNAME:EST
DTSTART:20241103T060000
END:STANDARD
END:VTIMEZONE
BEGIN:VEVENT
DTSTART;TZID=America/New_York:20230226T110000
DTEND;TZID=America/New_York:20230226T150000
DTSTAMP:20260421T191325
CREATED:20230222T032404Z
LAST-MODIFIED:20230222T032404Z
UID:10000034-1677409200-1677423600@yeahphilly.org
SUMMARY:CPR/First Aid
DESCRIPTION:Skills covered are adult CPR\, child CPR\, Infant CPR\, use of a pocket face mask\, foreign body airway obstruction (Choking first aid)\, and the use of the automated external defibrillator (AED). Young people will have hands-on skills using device-activated mannequins\, with actual chests that rise when performing breaths. Young people will receive a credentialed course completion card good for 2 years.
URL:https://yeahphilly.org/event/cpr-first-aid/
LOCATION:YEAHPhilly\, 5257 WALTON AVE\, PHILADELPHIA\, PA\, 19143\, United States
ATTACH;FMTTYPE=image/png:https://yeahphilly.org/wp-content/uploads/2021/03/Yeahafavicon.png
ORGANIZER;CN="YEAHPhilly":MAILTO:brian@ttlgdesign.com
END:VEVENT
BEGIN:VEVENT
DTSTART;TZID=America/New_York:20230226T160000
DTEND;TZID=America/New_York:20230226T173000
DTSTAMP:20260421T191325
CREATED:20230222T032527Z
LAST-MODIFIED:20230222T032527Z
UID:10000035-1677427200-1677432600@yeahphilly.org
SUMMARY:Stop the Bleed/Gunshot First Aid
DESCRIPTION:Young people will learn bleeding control and use of tourniquets through lecture and skill building. Each person receives a certification
URL:https://yeahphilly.org/event/stop-the-bleed-gunshot-first-aid/
LOCATION:YEAHPhilly\, 5257 WALTON AVE\, PHILADELPHIA\, PA\, 19143\, United States
ATTACH;FMTTYPE=image/png:https://yeahphilly.org/wp-content/uploads/2021/03/Yeahafavicon.png
ORGANIZER;CN="YEAHPhilly":MAILTO:brian@ttlgdesign.com
END:VEVENT
END:VCALENDAR