BEGIN:VCALENDAR
VERSION:2.0
PRODID:-//YEAHPhilly - ECPv6.15.17.1//NONSGML v1.0//EN
CALSCALE:GREGORIAN
METHOD:PUBLISH
X-ORIGINAL-URL:https://yeahphilly.org
X-WR-CALDESC:Events for YEAHPhilly
REFRESH-INTERVAL;VALUE=DURATION:PT1H
X-Robots-Tag:noindex
X-PUBLISHED-TTL:PT1H
BEGIN:VTIMEZONE
TZID:America/New_York
BEGIN:DAYLIGHT
TZOFFSETFROM:-0500
TZOFFSETTO:-0400
TZNAME:EDT
DTSTART:20220313T070000
END:DAYLIGHT
BEGIN:STANDARD
TZOFFSETFROM:-0400
TZOFFSETTO:-0500
TZNAME:EST
DTSTART:20221106T060000
END:STANDARD
BEGIN:DAYLIGHT
TZOFFSETFROM:-0500
TZOFFSETTO:-0400
TZNAME:EDT
DTSTART:20230312T070000
END:DAYLIGHT
BEGIN:STANDARD
TZOFFSETFROM:-0400
TZOFFSETTO:-0500
TZNAME:EST
DTSTART:20231105T060000
END:STANDARD
BEGIN:DAYLIGHT
TZOFFSETFROM:-0500
TZOFFSETTO:-0400
TZNAME:EDT
DTSTART:20240310T070000
END:DAYLIGHT
BEGIN:STANDARD
TZOFFSETFROM:-0400
TZOFFSETTO:-0500
TZNAME:EST
DTSTART:20241103T060000
END:STANDARD
END:VTIMEZONE
BEGIN:VEVENT
DTSTART;TZID=America/New_York:20230413T130000
DTEND;TZID=America/New_York:20230413T190000
DTSTAMP:20260421T092957
CREATED:20230412T020208Z
LAST-MODIFIED:20230412T020208Z
UID:10000038-1681390800-1681412400@yeahphilly.org
SUMMARY:Collaborative Staff Hiring Event
DESCRIPTION:Join us for a staff hiring event with YEAH Philly\, Temple Hospital\, and City of Philadelphia’s Network of Neighbors. We’re hiring all levels of staff and to RSVP & set up an interview\, complete this link. https://rb.gy/298N6
URL:https://yeahphilly.org/event/collaborative-staff-hiring-event/
LOCATION:The Graham Building\, 30 s. 15th Street\, 4th Fl 
ATTACH;FMTTYPE=image/png:https://yeahphilly.org/wp-content/uploads/2023/04/Staff-Hiring-Event.png
END:VEVENT
END:VCALENDAR