BEGIN:VCALENDAR
VERSION:2.0
PRODID:-//YEAHPhilly - ECPv6.15.17.1//NONSGML v1.0//EN
CALSCALE:GREGORIAN
METHOD:PUBLISH
X-WR-CALNAME:YEAHPhilly
X-ORIGINAL-URL:https://yeahphilly.org
X-WR-CALDESC:Events for YEAHPhilly
REFRESH-INTERVAL;VALUE=DURATION:PT1H
X-Robots-Tag:noindex
X-PUBLISHED-TTL:PT1H
BEGIN:VTIMEZONE
TZID:America/New_York
BEGIN:DAYLIGHT
TZOFFSETFROM:-0500
TZOFFSETTO:-0400
TZNAME:EDT
DTSTART:20220313T070000
END:DAYLIGHT
BEGIN:STANDARD
TZOFFSETFROM:-0400
TZOFFSETTO:-0500
TZNAME:EST
DTSTART:20221106T060000
END:STANDARD
BEGIN:DAYLIGHT
TZOFFSETFROM:-0500
TZOFFSETTO:-0400
TZNAME:EDT
DTSTART:20230312T070000
END:DAYLIGHT
BEGIN:STANDARD
TZOFFSETFROM:-0400
TZOFFSETTO:-0500
TZNAME:EST
DTSTART:20231105T060000
END:STANDARD
BEGIN:DAYLIGHT
TZOFFSETFROM:-0500
TZOFFSETTO:-0400
TZNAME:EDT
DTSTART:20240310T070000
END:DAYLIGHT
BEGIN:STANDARD
TZOFFSETFROM:-0400
TZOFFSETTO:-0500
TZNAME:EST
DTSTART:20241103T060000
END:STANDARD
END:VTIMEZONE
BEGIN:VEVENT
DTSTART;TZID=America/New_York:20230505T150000
DTEND;TZID=America/New_York:20230505T190000
DTSTAMP:20260421T115229
CREATED:20230412T020515Z
LAST-MODIFIED:20230412T021044Z
UID:10000039-1683298800-1683313200@yeahphilly.org
SUMMARY:Community Cookout & Townhall
DESCRIPTION:Come by for food\, vibes\, and to learn more about the work YEAH Philly is doing to support young people the right way in our communities and how we’re dismantling the legal system by demanding action and accountability. Come learn about volunteer opportunities and ways to support the teen led movement.
URL:https://yeahphilly.org/event/community-cookout-townhall/
LOCATION:Malcom X Park\, 5100 Pine Street
ATTACH;FMTTYPE=image/png:https://yeahphilly.org/wp-content/uploads/2021/03/Yeahafavicon.png
ORGANIZER;CN="YEAHPhilly":MAILTO:brian@ttlgdesign.com
END:VEVENT
END:VCALENDAR