BEGIN:VCALENDAR
VERSION:2.0
PRODID:-//YEAHPhilly - ECPv6.15.17.1//NONSGML v1.0//EN
CALSCALE:GREGORIAN
METHOD:PUBLISH
X-ORIGINAL-URL:https://yeahphilly.org
X-WR-CALDESC:Events for YEAHPhilly
REFRESH-INTERVAL;VALUE=DURATION:PT1H
X-Robots-Tag:noindex
X-PUBLISHED-TTL:PT1H
BEGIN:VTIMEZONE
TZID:America/New_York
BEGIN:DAYLIGHT
TZOFFSETFROM:-0500
TZOFFSETTO:-0400
TZNAME:EDT
DTSTART:20220313T070000
END:DAYLIGHT
BEGIN:STANDARD
TZOFFSETFROM:-0400
TZOFFSETTO:-0500
TZNAME:EST
DTSTART:20221106T060000
END:STANDARD
BEGIN:DAYLIGHT
TZOFFSETFROM:-0500
TZOFFSETTO:-0400
TZNAME:EDT
DTSTART:20230312T070000
END:DAYLIGHT
BEGIN:STANDARD
TZOFFSETFROM:-0400
TZOFFSETTO:-0500
TZNAME:EST
DTSTART:20231105T060000
END:STANDARD
BEGIN:DAYLIGHT
TZOFFSETFROM:-0500
TZOFFSETTO:-0400
TZNAME:EDT
DTSTART:20240310T070000
END:DAYLIGHT
BEGIN:STANDARD
TZOFFSETFROM:-0400
TZOFFSETTO:-0500
TZNAME:EST
DTSTART:20241103T060000
END:STANDARD
END:VTIMEZONE
BEGIN:VEVENT
DTSTART;TZID=America/New_York:20230728T120000
DTEND;TZID=America/New_York:20230728T170000
DTSTAMP:20260421T141759
CREATED:20230704T035850Z
LAST-MODIFIED:20230704T035850Z
UID:10000048-1690545600-1690563600@yeahphilly.org
SUMMARY:Big Azz Water Balloon Fight
DESCRIPTION:Cobbs Creek Park (The field located at the corner of 61st and Cobbs Creek Parkway\, down the hill) \nAll are welcome!
URL:https://yeahphilly.org/event/big-azz-water-balloon-fight/
LOCATION:Cobbs Creek Park
ORGANIZER;CN="YEAHPhilly":MAILTO:brian@ttlgdesign.com
END:VEVENT
BEGIN:VEVENT
DTSTART;TZID=America/New_York:20230728T160000
DTEND;TZID=America/New_York:20230728T200000
DTSTAMP:20260421T141759
CREATED:20230207T032551Z
LAST-MODIFIED:20230207T032551Z
UID:10000028-1690560000-1690574400@yeahphilly.org
SUMMARY:Conflict Resolution and Peer Mediation Training
DESCRIPTION:Come kick it with us for a paid\, two day workshop for teens and young adults in West and Southwest Philly (ages 15 to 24) to learn about YEAH’s peer mediation process and how to resolve conflict in a culturally relevant way. Email teens@yeahphilly.org to sign up or DM @yeahphilly on Instagram. This workshop fills fast.
URL:https://yeahphilly.org/event/conflict-resolution-and-peer-mediation-training-3/2023-07-28/
LOCATION:YEAHPhilly\, 5257 WALTON AVE\, PHILADELPHIA\, PA\, 19143\, United States
ATTACH;FMTTYPE=image/png:https://yeahphilly.org/wp-content/uploads/2021/03/Yeahafavicon.png
ORGANIZER;CN="YEAHPhilly":MAILTO:brian@ttlgdesign.com
END:VEVENT
END:VCALENDAR