BEGIN:VCALENDAR
VERSION:2.0
PRODID:-//YEAHPhilly - ECPv6.15.17.1//NONSGML v1.0//EN
CALSCALE:GREGORIAN
METHOD:PUBLISH
X-WR-CALNAME:YEAHPhilly
X-ORIGINAL-URL:https://yeahphilly.org
X-WR-CALDESC:Events for YEAHPhilly
REFRESH-INTERVAL;VALUE=DURATION:PT1H
X-Robots-Tag:noindex
X-PUBLISHED-TTL:PT1H
BEGIN:VTIMEZONE
TZID:America/New_York
BEGIN:DAYLIGHT
TZOFFSETFROM:-0500
TZOFFSETTO:-0400
TZNAME:EDT
DTSTART:20230312T070000
END:DAYLIGHT
BEGIN:STANDARD
TZOFFSETFROM:-0400
TZOFFSETTO:-0500
TZNAME:EST
DTSTART:20231105T060000
END:STANDARD
BEGIN:DAYLIGHT
TZOFFSETFROM:-0500
TZOFFSETTO:-0400
TZNAME:EDT
DTSTART:20240310T070000
END:DAYLIGHT
BEGIN:STANDARD
TZOFFSETFROM:-0400
TZOFFSETTO:-0500
TZNAME:EST
DTSTART:20241103T060000
END:STANDARD
BEGIN:DAYLIGHT
TZOFFSETFROM:-0500
TZOFFSETTO:-0400
TZNAME:EDT
DTSTART:20250309T070000
END:DAYLIGHT
BEGIN:STANDARD
TZOFFSETFROM:-0400
TZOFFSETTO:-0500
TZNAME:EST
DTSTART:20251102T060000
END:STANDARD
END:VTIMEZONE
BEGIN:VEVENT
DTSTART;VALUE=DATE:20240101
DTEND;VALUE=DATE:20240106
DTSTAMP:20260423T063948
CREATED:20231129T040612Z
LAST-MODIFIED:20231129T040612Z
UID:10000304-1704067200-1704499199@yeahphilly.org
SUMMARY:YEAH Offices Closed
DESCRIPTION:
URL:https://yeahphilly.org/event/yeah-offices-closed/
LOCATION:YEAHPhilly\, 5257 WALTON AVE\, PHILADELPHIA\, PA\, 19143\, United States
ORGANIZER;CN="YEAHPhilly":MAILTO:brian@ttlgdesign.com
END:VEVENT
END:VCALENDAR