BEGIN:VCALENDAR
VERSION:2.0
PRODID:-//YEAHPhilly - ECPv6.15.17.1//NONSGML v1.0//EN
CALSCALE:GREGORIAN
METHOD:PUBLISH
X-WR-CALNAME:YEAHPhilly
X-ORIGINAL-URL:https://yeahphilly.org
X-WR-CALDESC:Events for YEAHPhilly
REFRESH-INTERVAL;VALUE=DURATION:PT1H
X-Robots-Tag:noindex
X-PUBLISHED-TTL:PT1H
BEGIN:VTIMEZONE
TZID:America/New_York
BEGIN:DAYLIGHT
TZOFFSETFROM:-0500
TZOFFSETTO:-0400
TZNAME:EDT
DTSTART:20210314T070000
END:DAYLIGHT
BEGIN:STANDARD
TZOFFSETFROM:-0400
TZOFFSETTO:-0500
TZNAME:EST
DTSTART:20211107T060000
END:STANDARD
BEGIN:DAYLIGHT
TZOFFSETFROM:-0500
TZOFFSETTO:-0400
TZNAME:EDT
DTSTART:20220313T070000
END:DAYLIGHT
BEGIN:STANDARD
TZOFFSETFROM:-0400
TZOFFSETTO:-0500
TZNAME:EST
DTSTART:20221106T060000
END:STANDARD
BEGIN:DAYLIGHT
TZOFFSETFROM:-0500
TZOFFSETTO:-0400
TZNAME:EDT
DTSTART:20230312T070000
END:DAYLIGHT
BEGIN:STANDARD
TZOFFSETFROM:-0400
TZOFFSETTO:-0500
TZNAME:EST
DTSTART:20231105T060000
END:STANDARD
END:VTIMEZONE
BEGIN:VEVENT
DTSTART;TZID=America/New_York:20220518T180000
DTEND;TZID=America/New_York:20220518T210000
DTSTAMP:20260423T185737
CREATED:20220408T162748Z
LAST-MODIFIED:20220408T162748Z
UID:10000005-1652896800-1652907600@yeahphilly.org
SUMMARY:Dish It Up!
DESCRIPTION:Dish It Up is a preeminent women chef competition benefiting Women Against Abuse and its life-saving work with survivors of domestic violence in Philadelphia. The 14th annual fundraiser will be held at Lincoln Financial Field on May 18th\, engaging an exciting line-up of chefs\, judges\, and advocates. Women Against Abuse is thrilled to honor Troy and Tommi Vincent as the 2022 Advocates of the Year! Stadium tours will be available during the VIP reception! This is an event you won’t want to miss. Get your tickets now at: https://www.womenagainstabuse.org/events/dish-it-up to enjoy an unforgettable night with delicious food\, while raising money for a crucial cause.
URL:https://yeahphilly.org/event/dish-it-up/
LOCATION:Lincoln Financial Field\, One Lincoln Financial Field Way\, Philadelphia\, PA\, 19148\, United States
ATTACH;FMTTYPE=image/png:https://yeahphilly.org/wp-content/uploads/2022/04/DIU22-Palm-Card.png
END:VEVENT
END:VCALENDAR