BEGIN:VCALENDAR
VERSION:2.0
PRODID:-//YEAHPhilly - ECPv6.15.17.1//NONSGML v1.0//EN
CALSCALE:GREGORIAN
METHOD:PUBLISH
X-ORIGINAL-URL:https://yeahphilly.org
X-WR-CALDESC:Events for YEAHPhilly
REFRESH-INTERVAL;VALUE=DURATION:PT1H
X-Robots-Tag:noindex
X-PUBLISHED-TTL:PT1H
BEGIN:VTIMEZONE
TZID:America/New_York
BEGIN:DAYLIGHT
TZOFFSETFROM:-0500
TZOFFSETTO:-0400
TZNAME:EDT
DTSTART:20220313T070000
END:DAYLIGHT
BEGIN:STANDARD
TZOFFSETFROM:-0400
TZOFFSETTO:-0500
TZNAME:EST
DTSTART:20221106T060000
END:STANDARD
BEGIN:DAYLIGHT
TZOFFSETFROM:-0500
TZOFFSETTO:-0400
TZNAME:EDT
DTSTART:20230312T070000
END:DAYLIGHT
BEGIN:STANDARD
TZOFFSETFROM:-0400
TZOFFSETTO:-0500
TZNAME:EST
DTSTART:20231105T060000
END:STANDARD
BEGIN:DAYLIGHT
TZOFFSETFROM:-0500
TZOFFSETTO:-0400
TZNAME:EDT
DTSTART:20240310T070000
END:DAYLIGHT
BEGIN:STANDARD
TZOFFSETFROM:-0400
TZOFFSETTO:-0500
TZNAME:EST
DTSTART:20241103T060000
END:STANDARD
END:VTIMEZONE
BEGIN:VEVENT
DTSTART;TZID=America/New_York:20230304T130000
DTEND;TZID=America/New_York:20230304T160000
DTSTAMP:20260421T124313
CREATED:20230222T033021Z
LAST-MODIFIED:20230222T033021Z
UID:10000037-1677934800-1677945600@yeahphilly.org
SUMMARY:Community Protest Sign Making
DESCRIPTION:Come out and hang with YEAH Philly to make signs and learn about upcoming protests around supporting youth in the legal system. Food\, drinks\, and building community.
URL:https://yeahphilly.org/event/community-protest-sign-making/
LOCATION:YEAHPhilly\, 5257 WALTON AVE\, PHILADELPHIA\, PA\, 19143\, United States
ATTACH;FMTTYPE=image/png:https://yeahphilly.org/wp-content/uploads/2021/03/Yeahafavicon.png
ORGANIZER;CN="YEAHPhilly":MAILTO:brian@ttlgdesign.com
END:VEVENT
BEGIN:VEVENT
DTSTART;TZID=America/New_York:20230305T110000
DTEND;TZID=America/New_York:20230305T150000
DTSTAMP:20260421T124313
CREATED:20230222T032758Z
LAST-MODIFIED:20230222T032758Z
UID:10000036-1678014000-1678028400@yeahphilly.org
SUMMARY:CPR/First Aid
DESCRIPTION:Skills covered are adult CPR\, child CPR\, Infant CPR\, use of a pocket face mask\, foreign body airway obstruction (Choking first aid)\, and the use of the automated external defibrillator (AED). Young people will have hands-on skills using device activated mannequins\, with actual chests that rise when performing breaths. Young people will receive a credentialed course completion card good for 2 years.
URL:https://yeahphilly.org/event/cpr-first-aid-2/
LOCATION:YEAHPhilly\, 5257 WALTON AVE\, PHILADELPHIA\, PA\, 19143\, United States
ATTACH;FMTTYPE=image/png:https://yeahphilly.org/wp-content/uploads/2021/03/Yeahafavicon.png
ORGANIZER;CN="YEAHPhilly":MAILTO:brian@ttlgdesign.com
END:VEVENT
BEGIN:VEVENT
DTSTART;TZID=America/New_York:20230309T160000
DTEND;TZID=America/New_York:20230309T200000
DTSTAMP:20260421T124313
CREATED:20230207T032108Z
LAST-MODIFIED:20230207T032108Z
UID:10000023-1678377600-1678392000@yeahphilly.org
SUMMARY:Conflict Resolution and Peer Mediation Training
DESCRIPTION:Come kick it with us for a paid\, two day workshop for teens and young adults in West and Southwest Philly (ages 15 to 24) to learn about YEAH’s peer mediation process and how to resolve conflict in a culturally relevant way. Email teens@yeahphilly.org to sign up or DM @yeahphilly on Instagram. This workshop fills fast.
URL:https://yeahphilly.org/event/conflict-resolution-and-peer-mediation-training/2023-03-09/
LOCATION:YEAHPhilly\, 5257 WALTON AVE\, PHILADELPHIA\, PA\, 19143\, United States
ATTACH;FMTTYPE=image/png:https://yeahphilly.org/wp-content/uploads/2021/03/Yeahafavicon.png
ORGANIZER;CN="YEAHPhilly":MAILTO:brian@ttlgdesign.com
END:VEVENT
BEGIN:VEVENT
DTSTART;TZID=America/New_York:20230310T160000
DTEND;TZID=America/New_York:20230310T200000
DTSTAMP:20260421T124313
CREATED:20230207T032108Z
LAST-MODIFIED:20230207T032108Z
UID:10000024-1678464000-1678478400@yeahphilly.org
SUMMARY:Conflict Resolution and Peer Mediation Training
DESCRIPTION:Come kick it with us for a paid\, two day workshop for teens and young adults in West and Southwest Philly (ages 15 to 24) to learn about YEAH’s peer mediation process and how to resolve conflict in a culturally relevant way. Email teens@yeahphilly.org to sign up or DM @yeahphilly on Instagram. This workshop fills fast.
URL:https://yeahphilly.org/event/conflict-resolution-and-peer-mediation-training/2023-03-10/
LOCATION:YEAHPhilly\, 5257 WALTON AVE\, PHILADELPHIA\, PA\, 19143\, United States
ATTACH;FMTTYPE=image/png:https://yeahphilly.org/wp-content/uploads/2021/03/Yeahafavicon.png
ORGANIZER;CN="YEAHPhilly":MAILTO:brian@ttlgdesign.com
END:VEVENT
END:VCALENDAR